BEGIN:VCALENDAR
VERSION:2.0
PRODID:-//#wine_passion - ECPv4.2.2//NONSGML v1.0//EN
CALSCALE:GREGORIAN
METHOD:PUBLISH
X-WR-CALNAME:#wine_passion
X-ORIGINAL-URL:http://blog.evinum.de
X-WR-CALDESC:Events for #wine_passion
BEGIN:VEVENT
DTSTART;VALUE=DATE:20150808
DTEND;VALUE=DATE:20150809
DTSTAMP:20260422T004659
CREATED:20150702
LAST-MODIFIED:20150805
UID:6449-1438992000-1439164799@blog.evinum.de
SUMMARY:Straßenweinfest Wirmsthal
DESCRIPTION:Ein Weinfest für alle Sinne
URL:http://blog.evinum.de/event/strassenweinfest-wirmsthal/
LOCATION:Ortskern\, Wirmsthal\, Bayern\, 97717\, Deutschland
GEO:50.1519529;10.037047
X-APPLE-STRUCTURED-LOCATION;VALUE=URI;X-ADDRESS=Ortskern Wirmsthal Bayern 97717 Deutschland;X-APPLE-RADIUS=500;X-TITLE=Ortskern:geo:10.037047,50.1519529
CATEGORIES:Franken,Wein & Kulinarik,Wein & Musik,Weinausschank,Weinfest
ATTACH;FMTTYPE=image/jpeg:http://blog.evinum.de/wp-content/uploads/2015/07/events_evinum_weinfest6.jpg
ORGANIZER;CN="Frankenwein-Frankenland%20GmbH":MAILTO:kontakt@haus-des-frankenweins.de
END:VEVENT
END:VCALENDAR