BEGIN:VCALENDAR
VERSION:2.0
PRODID:-//#wine_passion - ECPv4.2.2//NONSGML v1.0//EN
CALSCALE:GREGORIAN
METHOD:PUBLISH
X-WR-CALNAME:#wine_passion
X-ORIGINAL-URL:http://blog.evinum.de
X-WR-CALDESC:Events for #wine_passion
BEGIN:VEVENT
DTSTART;VALUE=DATE:20151108
DTEND;VALUE=DATE:20151108
DTSTAMP:20260423T104107
CREATED:20151022
LAST-MODIFIED:20151023
UID:8412-1446940800-1447027199@blog.evinum.de
SUMMARY:Stutzenfest in Weisenheim am Berg
DESCRIPTION:Ganz nach alter Überlieferung sind die Neu-Weisenheimer aufgefordert\, einen Hut mit Nüssen\, einen Teller mit Handkäse\, ein Brot und nicht zuletzt 12 Liter Wein zu stiften.
URL:http://blog.evinum.de/event/stutzenfest-in-weisenheim-am-berg/
LOCATION:Dorfplatz/Innenstadt\, Weisenheim am Berg\, Rheinland-Pfalz\, 67273\, Deutschland
GEO:49.5157181;8.1623388
X-APPLE-STRUCTURED-LOCATION;VALUE=URI;X-ADDRESS=Dorfplatz/Innenstadt Weisenheim am Berg Rheinland-Pfalz 67273 Deutschland;X-APPLE-RADIUS=500;X-TITLE=Dorfplatz/Innenstadt:geo:8.1623388,49.5157181
CATEGORIES:Pfalz,Wein & Kulinarik,Wein & Musik,Weinausschank,Weinfest,Weinkerwe
ATTACH;FMTTYPE=image/jpeg:http://blog.evinum.de/wp-content/uploads/2015/10/events_evinum_kaese_platte2.jpg
ORGANIZER;CN="Pfalzwein%20e.V.":MAILTO:info@pfalz.de
END:VEVENT
END:VCALENDAR