BEGIN:VCALENDAR
VERSION:2.0
PRODID:-//#wine_passion - ECPv4.2.2//NONSGML v1.0//EN
CALSCALE:GREGORIAN
METHOD:PUBLISH
X-WR-CALNAME:#wine_passion
X-ORIGINAL-URL:http://blog.evinum.de
X-WR-CALDESC:Events for #wine_passion
BEGIN:VEVENT
DTSTART;TZID=Europe/Berlin:20150417T190000
DTEND;TZID=Europe/Berlin:20150417T190000
DTSTAMP:20260423T090356
CREATED:20150226T180424
LAST-MODIFIED:20150415T183841
UID:2406-1429297200-1429297200@blog.evinum.de
SUMMARY:Themenweinprobe Finissimo
DESCRIPTION:Themenweinprobe Finissimo
URL:http://blog.evinum.de/event/themenweinprobe-finissimo-7/
LOCATION:Uhlbacher Straße 221\, Stuttgart-Uhlbach \, Baden-Württemberg\, 70329\, Deutschland
GEO:48.77593;9.278
X-APPLE-STRUCTURED-LOCATION;VALUE=URI;X-ADDRESS=Uhlbacher Straße 221 Stuttgart-Uhlbach  Baden-Württemberg 70329 Deutschland;X-APPLE-RADIUS=500;X-TITLE=Uhlbacher Straße 221:geo:9.278,48.77593
CATEGORIES:Winzerkeller,Württemberg
ATTACH;FMTTYPE=image/jpeg:http://blog.evinum.de/wp-content/uploads/2015/02/events_evinum_glaeser_vonoben.jpg
ORGANIZER;CN="Collegium%20Wirtemberg%20-%20Weing%C3%A4rtner%20Rotenberg%20%26%20Uhlbach%20eG":MAILTO:info@collegium-wirtemberg.de
END:VEVENT
END:VCALENDAR