BEGIN:VCALENDAR
VERSION:2.0
PRODID:-//#wine_passion - ECPv4.2.2//NONSGML v1.0//EN
CALSCALE:GREGORIAN
METHOD:PUBLISH
X-WR-CALNAME:#wine_passion
X-ORIGINAL-URL:http://blog.evinum.de
X-WR-CALDESC:Events for #wine_passion
BEGIN:VEVENT
DTSTART;TZID=Europe/Berlin:20150814T090000
DTEND;TZID=Europe/Berlin:20150817T220000
DTSTAMP:20260422T090917
CREATED:20150723T142618
LAST-MODIFIED:20150815T112734
UID:7034-1439542800-1439848800@blog.evinum.de
SUMMARY:Traditionelles Weinfest auf dem Marktplatz
DESCRIPTION:Weinfeste und Hoffeste
URL:http://blog.evinum.de/event/traditionelles-weinfest-auf-dem-marktplatz/
LOCATION:Marktplatz\, Rüdesheim am Rhein\, Hessen\, 65385\, Deutschland
GEO:49.9788479;7.9230526
X-APPLE-STRUCTURED-LOCATION;VALUE=URI;X-ADDRESS=Marktplatz Rüdesheim am Rhein Hessen 65385 Deutschland;X-APPLE-RADIUS=500;X-TITLE=Marktplatz:geo:7.9230526,49.9788479
CATEGORIES:Rheingau,Wein & Kulinarik,Wein & Musik,Weinfest
ATTACH;FMTTYPE=image/jpeg:http://blog.evinum.de/wp-content/uploads/2015/05/events_evinum_weinfest.jpg
ORGANIZER;CN="R%C3%BCdesheim%20Tourist%20AG":MAILTO:touristinfo@ruedesheim.de
END:VEVENT
END:VCALENDAR