BEGIN:VCALENDAR
VERSION:2.0
PRODID:-//#wine_passion - ECPv4.2.2//NONSGML v1.0//EN
CALSCALE:GREGORIAN
METHOD:PUBLISH
X-WR-CALNAME:#wine_passion
X-ORIGINAL-URL:http://blog.evinum.de
X-WR-CALDESC:Events for #wine_passion
BEGIN:VEVENT
DTSTART;TZID=Europe/Berlin:20150426T110000
DTEND;TZID=Europe/Berlin:20150426T180000
DTSTAMP:20260422T113303
CREATED:20150226T180500
LAST-MODIFIED:20150417T094315
UID:2521-1430046000-1430071200@blog.evinum.de
SUMMARY:VDP Weinbörse
DESCRIPTION:exklusiv für Fachbesucher Weinmesse aus Handel und Gastronomie. Zu verkosten sind in der Rheingoldhalle das aktuelle Angebot von 170 VDP-Betrieben aus allen deutschen Anbaugebieten.
URL:http://blog.evinum.de/event/vdp-weinboerse/
LOCATION:Rheinstraße 66\, Mainz\, Rheinland-Pfalz\, 55116\, Deutschland
CATEGORIES:Rheinhessen
ATTACH;FMTTYPE=image/jpeg:http://blog.evinum.de/wp-content/uploads/2015/02/events_evinum_prowein14b.jpg
ORGANIZER;CN="VDP.%20Die%20Pr%C3%A4dikatsweing%C3%BCter":MAILTO:vdp@vdp.de
END:VEVENT
END:VCALENDAR