BEGIN:VCALENDAR
VERSION:2.0
PRODID:-//#wine_passion - ECPv4.2.2//NONSGML v1.0//EN
CALSCALE:GREGORIAN
METHOD:PUBLISH
X-WR-CALNAME:#wine_passion
X-ORIGINAL-URL:http://blog.evinum.de
X-WR-CALDESC:Events for #wine_passion
BEGIN:VEVENT
DTSTART;TZID=Europe/Berlin:20150516T150000
DTEND;TZID=Europe/Berlin:20150516T150000
DTSTAMP:20260423T162316
CREATED:20150323T190124
LAST-MODIFIED:20150507T133841
UID:3203-1431788400-1431788400@blog.evinum.de
SUMMARY:Via Vini - Wein- und Sektpräsentation
DESCRIPTION:Oppenheimer Weingüter entlang der Römerstraße. Weine und kleine Leckereien in den Betrieben.
URL:http://blog.evinum.de/event/via-vini-wein-und-sektpraesentation/
LOCATION:Rathofstraße 21\, Oppenheim\, Rheinland-Pfalz\, 55276\, Deutschland
GEO:49.85106;8.35333
X-APPLE-STRUCTURED-LOCATION;VALUE=URI;X-ADDRESS=Rathofstraße 21 Oppenheim Rheinland-Pfalz 55276 Deutschland;X-APPLE-RADIUS=500;X-TITLE=Rathofstraße 21:geo:8.35333,49.85106
CATEGORIES:Rheinhessen,Sektverkostung,Wein & Kulinarik,Weinpräsentation,Weinverkostung
ATTACH;FMTTYPE=image/jpeg:http://blog.evinum.de/wp-content/uploads/2015/03/events_evinum_glaeser_probe3.jpg
ORGANIZER;CN="Weingut%20Dr.%20Dahlem":MAILTO:info@weingut-dahlem.de
END:VEVENT
END:VCALENDAR