BEGIN:VCALENDAR
VERSION:2.0
PRODID:-//#wine_passion - ECPv4.2.2//NONSGML v1.0//EN
CALSCALE:GREGORIAN
METHOD:PUBLISH
X-WR-CALNAME:#wine_passion
X-ORIGINAL-URL:http://blog.evinum.de
X-WR-CALDESC:Events for #wine_passion
BEGIN:VEVENT
DTSTART;VALUE=DATE:20150517
DTEND;VALUE=DATE:20150517
DTSTAMP:20260422T141057
CREATED:20150323
LAST-MODIFIED:20150507
UID:3217-1431820800-1431907199@blog.evinum.de
SUMMARY:Wandern auf Rieslingweg und Rotweinpfad
DESCRIPTION:Wandern auf Rieslingweg und Rotweinpfad
URL:http://blog.evinum.de/event/wandern-auf-rieslingweg-und-rotweinpfad/
LOCATION:Betschgräblerplatz\, Bühl\, Baden-Württemberg\, 77815\, Deutschland
GEO:48.6824642;8.1500317
X-APPLE-STRUCTURED-LOCATION;VALUE=URI;X-ADDRESS=Betschgräblerplatz Bühl Baden-Württemberg 77815 Deutschland;X-APPLE-RADIUS=500;X-TITLE=Betschgräblerplatz:geo:8.1500317,48.6824642
CATEGORIES:Baden,Weinbergsführung,Weinlehrpfad,Weinwanderung
ATTACH;FMTTYPE=image/jpeg:http://blog.evinum.de/wp-content/uploads/2015/03/events_evinum_wandernr.jpg
ORGANIZER;CN="Affentaler%20Winzergenossenschaft":MAILTO:info@affentaler.de
END:VEVENT
END:VCALENDAR