BEGIN:VCALENDAR
VERSION:2.0
PRODID:-//#wine_passion - ECPv4.2.2//NONSGML v1.0//EN
CALSCALE:GREGORIAN
METHOD:PUBLISH
X-WR-CALNAME:#wine_passion
X-ORIGINAL-URL:http://blog.evinum.de
X-WR-CALDESC:Events for #wine_passion
BEGIN:VEVENT
DTSTART;TZID=Europe/Berlin:20160409T103000
DTEND;TZID=Europe/Berlin:20160409T110000
DTSTAMP:20260421T175241
CREATED:20160202T224534
LAST-MODIFIED:20160408T163221
UID:10587-1460197800-1460199600@blog.evinum.de
SUMMARY:Wanderung mit Weinprobe der besonderen Art in Lorch
DESCRIPTION:Wein & Sekt\, Natur\, Wandern\, Frühling
URL:http://blog.evinum.de/event/wanderung-mit-weinprobe-der-besonderen-art-in-lorch/
LOCATION:Rheinallee 8\, Lorch-Lorchhausen\, Hessen\, 65391\, Deutschland
GEO:50.0524799;7.7836203
X-APPLE-STRUCTURED-LOCATION;VALUE=URI;X-ADDRESS=Rheinallee 8 Lorch-Lorchhausen Hessen 65391 Deutschland;X-APPLE-RADIUS=500;X-TITLE=Rheinallee 8:geo:7.7836203,50.0524799
CATEGORIES:Rheingau
ATTACH;FMTTYPE=image/jpeg:http://blog.evinum.de/wp-content/uploads/2015/05/events_evinum_weinberge_wanderung4.jpg
ORGANIZER;CN="Weingut%20Nies":MAILTO:info@weingut-nies.de
END:VEVENT
END:VCALENDAR