BEGIN:VCALENDAR
VERSION:2.0
PRODID:-//#wine_passion - ECPv4.2.2//NONSGML v1.0//EN
CALSCALE:GREGORIAN
METHOD:PUBLISH
X-WR-CALNAME:#wine_passion
X-ORIGINAL-URL:http://blog.evinum.de
X-WR-CALDESC:Events for #wine_passion
BEGIN:VEVENT
DTSTART;TZID=Europe/Berlin:20150520T170000
DTEND;TZID=Europe/Berlin:20150520T190000
DTSTAMP:20260422T004833
CREATED:20150323T190151
LAST-MODIFIED:20150507T143940
UID:3246-1432141200-1432148400@blog.evinum.de
SUMMARY:Wanderung über den Weinbergsterrassen Orchideenpfad
DESCRIPTION:Aufbau von Trockenmauern\, der Historische Weinberg etc. Beispielhaft verkosten wir 3 Rieslinge der mittleren Nahe. 8 / pro Person incl. Weinprobe\, Kinder kostenlos
URL:http://blog.evinum.de/event/wanderung-ueber-den-weinbergsterrassen-orchideenpfad/
LOCATION:Staudernheim\, Rheinland-Pfalz\, 55568\, Deutschland
CATEGORIES:Nahe,Wein & Geschichte,Wein & Kultur,Weinbergsführung,Weingärtner,Weinlehrpfad,Weinwanderung
ATTACH;FMTTYPE=image/jpeg:http://blog.evinum.de/wp-content/uploads/2015/03/events_evinum_Blumen_fruehling.jpg
ORGANIZER;CN="Kultur-%20und%20Weinbotschafter%20Nahe%20e.V.":MAILTO:info@kultur-und-weinbotschafter-nahe.de
END:VEVENT
END:VCALENDAR