BEGIN:VCALENDAR
VERSION:2.0
PRODID:-//#wine_passion - ECPv4.2.2//NONSGML v1.0//EN
CALSCALE:GREGORIAN
METHOD:PUBLISH
X-WR-CALNAME:#wine_passion
X-ORIGINAL-URL:http://blog.evinum.de
X-WR-CALDESC:Events for #wine_passion
BEGIN:VEVENT
DTSTART;VALUE=DATE:20150522
DTEND;VALUE=DATE:20150524
DTSTAMP:20260421T191526
CREATED:20150323
LAST-MODIFIED:20150507
UID:3254-1432252800-1432511999@blog.evinum.de
SUMMARY:Wein- und Brückenfest - Die Jungwinzerfete
DESCRIPTION:Auch in diesem Jahr laden die "Trittenheim Apotheker"\, die Winzer der neuen Generation zu unserem Weinfest auf eine Endeckungsreise durch ihre besonderen Weine ein.
URL:http://blog.evinum.de/event/wein-und-brueckenfest-die-jungwinzerfete/
LOCATION:Trittenheim\, Rheinland-Pfalz\, 54349\, Deutschland
CATEGORIES:Mosel,Wein & Musik,Winzerverein
ATTACH;FMTTYPE=image/jpeg:http://blog.evinum.de/wp-content/uploads/2015/05/events_evinum_freunde_feiern.jpg
ORGANIZER;CN="Tourist-Information%20R%C3%B6mische%20Weinstrasse":MAILTO:conrad@touristinfo-schweich.de
END:VEVENT
END:VCALENDAR