BEGIN:VCALENDAR
VERSION:2.0
PRODID:-//#wine_passion - ECPv4.2.2//NONSGML v1.0//EN
CALSCALE:GREGORIAN
METHOD:PUBLISH
X-WR-CALNAME:#wine_passion
X-ORIGINAL-URL:http://blog.evinum.de
X-WR-CALDESC:Events for #wine_passion
BEGIN:VEVENT
DTSTART;VALUE=DATE:20150704
DTEND;VALUE=DATE:20150706
DTSTAMP:20260424T080127
CREATED:20150621
LAST-MODIFIED:20150702
UID:5035-1435968000-1436227199@blog.evinum.de
SUMMARY:Wein- und Dorffest Pölich
DESCRIPTION:Auf der Straße und im Bürgerhaus.
URL:http://blog.evinum.de/event/wein-und-dorffest-poelich/
LOCATION:Ortskern\, Pölich\, Rheinland-Pfalz\, 54340\, Deutschland
GEO:49.8275047;6.8386687
X-APPLE-STRUCTURED-LOCATION;VALUE=URI;X-ADDRESS=Ortskern Pölich Rheinland-Pfalz 54340 Deutschland;X-APPLE-RADIUS=500;X-TITLE=Ortskern:geo:6.8386687,49.8275047
CATEGORIES:Mosel,Wein & Kulinarik,Wein & Musik,Weinfest
ATTACH;FMTTYPE=image/jpeg:http://blog.evinum.de/wp-content/uploads/2015/05/events_evinum_freunde_feiern3.jpg
ORGANIZER;CN="Tourist-Information%20R%C3%B6mische%20Weinstrasse":MAILTO:conrad@touristinfo-schweich.de
END:VEVENT
END:VCALENDAR