BEGIN:VCALENDAR
VERSION:2.0
PRODID:-//#wine_passion - ECPv4.2.2//NONSGML v1.0//EN
CALSCALE:GREGORIAN
METHOD:PUBLISH
X-WR-CALNAME:#wine_passion
X-ORIGINAL-URL:http://blog.evinum.de
X-WR-CALDESC:Events for #wine_passion
BEGIN:VEVENT
DTSTART;VALUE=DATE:20150522
DTEND;VALUE=DATE:20150524
DTSTAMP:20260426T021410
CREATED:20150323
LAST-MODIFIED:20150507
UID:3258-1432252800-1432511999@blog.evinum.de
SUMMARY:Wein- und Frühlingsfest
DESCRIPTION:Auf dem Dorfplatz. Mit Oldtimertreffen.
URL:http://blog.evinum.de/event/wein-und-fruehlingsfest/
LOCATION:Kinheim-Kindel\, Rheinland-Pfalz\, 54538\, Deutschland
CATEGORIES:Mosel,Wein & Kulinarik,Wein & Musik,Weinfest,Weinlesefest,Weinverkostung
ATTACH;FMTTYPE=image/jpeg:http://blog.evinum.de/wp-content/uploads/2015/05/events_evinum_heuschober_oldie.jpg
ORGANIZER;CN="Tourist-Information%20Kinheim":MAILTO:Info@Kinheim.de
END:VEVENT
END:VCALENDAR