BEGIN:VCALENDAR
VERSION:2.0
PRODID:-//#wine_passion - ECPv4.2.2//NONSGML v1.0//EN
CALSCALE:GREGORIAN
METHOD:PUBLISH
X-WR-CALNAME:#wine_passion
X-ORIGINAL-URL:http://blog.evinum.de
X-WR-CALDESC:Events for #wine_passion
BEGIN:VEVENT
DTSTART;TZID=Europe/Berlin:20150904T180000
DTEND;TZID=Europe/Berlin:20150905T000000
DTSTAMP:20260423T090426
CREATED:20150723T142622
LAST-MODIFIED:20150903T132734
UID:7081-1441389600-1441411200@blog.evinum.de
SUMMARY:Wein- und Hoffest im Weingut Emrich-Montigny in Bad Kreuznach
DESCRIPTION:Weinfeste und Hoffeste So ab 11 Uhr
URL:http://blog.evinum.de/event/wein-und-hoffest-im-weingut-emrich-montigny/
LOCATION:Burgundenstraße 1\, Bad Kreuznach\, Rheinland-Pfalz\, 55540\, Deutschland
CATEGORIES:Mosel,Wein & Kulinarik,Wein & Musik,Weinausschank,Weinfest,Weingüter,Winzerfest,Winzerhöfe
ATTACH;FMTTYPE=image/jpeg:http://blog.evinum.de/wp-content/uploads/2015/07/events_evinum_weinfest2.jpg
ORGANIZER;CN="Weingut%20Emrich-Montigny":MAILTO:weingut@emrich-montigny.de
END:VEVENT
END:VCALENDAR