BEGIN:VCALENDAR
VERSION:2.0
PRODID:-//#wine_passion - ECPv4.2.2//NONSGML v1.0//EN
CALSCALE:GREGORIAN
METHOD:PUBLISH
X-WR-CALNAME:#wine_passion
X-ORIGINAL-URL:http://blog.evinum.de
X-WR-CALDESC:Events for #wine_passion
BEGIN:VEVENT
DTSTART;TZID=Europe/Berlin:20150501T110000
DTEND;TZID=Europe/Berlin:20150503T200000
DTSTAMP:20260423T103955
CREATED:20150323T185918
LAST-MODIFIED:20150428T112324
UID:2983-1430478000-1430683200@blog.evinum.de
SUMMARY:Wein- und Sekt- Erlebnistage Weingut Barth
DESCRIPTION:Wein- und Sekt-Erlebnistage Weingut Barth - Verkosten Sie unsere Sekte und die neuen 2014er Weine in unserer neuen Verkostungsräumen und genießen Sie ausgewählte regionale Köstlichkeiten in unserem Gutshof.\n\nFreitag: Angrillen\n\nSamstag: Sektherstellung hautnah\n\nSonntag: Swingmusik mit „The Flow“ (13-17 Uhr)
URL:http://blog.evinum.de/event/wein-und-sekt-erlebnistage-weingut-barth/
LOCATION:Bergweg 20\, Hattenheim \, Hessen\, 65347\, Deutschland
GEO:50.0143;8.0536
X-APPLE-STRUCTURED-LOCATION;VALUE=URI;X-ADDRESS=Bergweg 20 Hattenheim  Hessen 65347 Deutschland;X-APPLE-RADIUS=500;X-TITLE=Bergweg 20:geo:8.0536,50.0143
CATEGORIES:Hoffest,Rheingau,Wein & Kulinarik,Wein & Musik,Weinfest,Weingüter,Weinpräsentation,Weinprobe,Winzerfest
ATTACH;FMTTYPE=image/jpeg:http://blog.evinum.de/wp-content/uploads/2015/04/events_evinum_barth.jpg
ORGANIZER;CN="Wein-%20und%20Sektgut%20Barth%20GbR":MAILTO:mail@weingut-barth.de
END:VEVENT
END:VCALENDAR