BEGIN:VCALENDAR
VERSION:2.0
PRODID:-//#wine_passion - ECPv4.2.2//NONSGML v1.0//EN
CALSCALE:GREGORIAN
METHOD:PUBLISH
X-WR-CALNAME:#wine_passion
X-ORIGINAL-URL:http://blog.evinum.de
X-WR-CALDESC:Events for #wine_passion
BEGIN:VEVENT
DTSTART;TZID=Europe/Berlin:20150425T140000
DTEND;TZID=Europe/Berlin:20150426T220000
DTSTAMP:20260421T172846
CREATED:20150226T180449
LAST-MODIFIED:20150416T183052
UID:2486-1429970400-1430085600@blog.evinum.de
SUMMARY:Wein und Tapas in den Weingütern
DESCRIPTION:Schwabenheimer Weingüter präsentieren Wein\, Sekt und Tapas in den Weingütern. Nicole Schenkel\, Tel. 06130-945305. So 11:00 - 20:00 Uhr
URL:http://blog.evinum.de/event/wein-und-tapas-in-den-weinguetern/
LOCATION:Schwabenheim\, Rheinland-Pfalz\, 55270\, Deutschland
CATEGORIES:Rheinhessen,Wein & Kulinarik
ATTACH;FMTTYPE=image/jpeg:http://blog.evinum.de/wp-content/uploads/2015/03/events_evinum_glaeser_canapees.jpg
ORGANIZER;CN="Rheinhessenwein%20e.V.":MAILTO:info@rheinhessenwein.de
END:VEVENT
END:VCALENDAR