BEGIN:VCALENDAR
VERSION:2.0
PRODID:-//#wine_passion - ECPv4.2.2//NONSGML v1.0//EN
CALSCALE:GREGORIAN
METHOD:PUBLISH
X-WR-CALNAME:#wine_passion
X-ORIGINAL-URL:http://blog.evinum.de
X-WR-CALDESC:Events for #wine_passion
BEGIN:VEVENT
DTSTART;TZID=Europe/Berlin:20150712T140000
DTEND;TZID=Europe/Berlin:20150712T160000
DTSTAMP:20260421T083926
CREATED:20150621T135635
LAST-MODIFIED:20150701T165355
UID:4845-1436709600-1436716800@blog.evinum.de
SUMMARY:Weinerlebnis beim Obersulmer Weindorf
DESCRIPTION:Weinberg\, Gut und Keller erleben\, Kultur- und Weinbotschafter Helmut Feldmeyer 07130/6837
URL:http://blog.evinum.de/event/weinerlebnis-beim-obersulmer-weindorf/
LOCATION:auf Anfrage\, Obersulm-Eichelberg\, Baden-Württemberg\, 74182\, Deutschland
GEO:49.1356314;9.391606
X-APPLE-STRUCTURED-LOCATION;VALUE=URI;X-ADDRESS=auf Anfrage Obersulm-Eichelberg Baden-Württemberg 74182 Deutschland;X-APPLE-RADIUS=500;X-TITLE=auf Anfrage:geo:9.391606,49.1356314
CATEGORIES:Württemberg
ATTACH;FMTTYPE=image/jpeg:http://blog.evinum.de/wp-content/uploads/2015/05/events_evinum_wine.jpg
ORGANIZER;CN="Weinerlebnisf%C3%BChrer%20W%C3%BCrttemberg%20e.V.":MAILTO:info@weinerlebnistour.de
END:VEVENT
END:VCALENDAR