BEGIN:VCALENDAR
VERSION:2.0
PRODID:-//#wine_passion - ECPv4.2.2//NONSGML v1.0//EN
CALSCALE:GREGORIAN
METHOD:PUBLISH
X-WR-CALNAME:#wine_passion
X-ORIGINAL-URL:http://blog.evinum.de
X-WR-CALDESC:Events for #wine_passion
BEGIN:VEVENT
DTSTART;VALUE=DATE:20150710
DTEND;VALUE=DATE:20150713
DTSTAMP:20260420T031850
CREATED:20150428
LAST-MODIFIED:20150702
UID:4310-1436486400-1436831999@blog.evinum.de
SUMMARY:Weinfest Hammelburg
DESCRIPTION:Marktplatz und Bocksbeutelkeller
URL:http://blog.evinum.de/event/weinfest-hammelburg/
LOCATION:Am Marktplatz 1\, Hammelburg\, Bayern\, 97762\, Deutschland
GEO:50.114788;9.8903923
X-APPLE-STRUCTURED-LOCATION;VALUE=URI;X-ADDRESS=Am Marktplatz 1 Hammelburg Bayern 97762 Deutschland;X-APPLE-RADIUS=500;X-TITLE=Am Marktplatz 1:geo:9.8903923,50.114788
CATEGORIES:Franken,offene Weinkeller,Wein & Kulinarik,Wein & Musik,Weinausschank,Weinfest
ATTACH;FMTTYPE=image/jpeg:http://blog.evinum.de/wp-content/uploads/2015/05/events_evinum_wine.jpg
ORGANIZER;CN="Frankens%20Saalest%C3%BCck":MAILTO:info@frankens-saalestueck.de
END:VEVENT
END:VCALENDAR