BEGIN:VCALENDAR
VERSION:2.0
PRODID:-//#wine_passion - ECPv4.2.2//NONSGML v1.0//EN
CALSCALE:GREGORIAN
METHOD:PUBLISH
X-WR-CALNAME:#wine_passion
X-ORIGINAL-URL:http://blog.evinum.de
X-WR-CALDESC:Events for #wine_passion
BEGIN:VEVENT
DTSTART;VALUE=DATE:20150905
DTEND;VALUE=DATE:20150905
DTSTAMP:20260422T134422
CREATED:20150702
LAST-MODIFIED:20150903
UID:6532-1441411200-1441497599@blog.evinum.de
SUMMARY:Weinfest in Gladenbach 2015
DESCRIPTION:Das Weinfest in Gladenbach findet 2015 bereits zum 22. Mal statt. Veranstaltungsort wird wieder das Haus des Gastes sein. Am Nachmittag um 15.30 Uhr findet eine Weinprobe statt\, bevor am Abend ab 20 Uhr eine Tanzkapelle für gute Stimmung sorgt. Eintrittskarten können vorab bei der Weinhandlung Burk erworben werden
URL:http://blog.evinum.de/event/weinfest-in-gladenbach-2015-4/
LOCATION:Gladenbach\, Hessen\, 35075\, Deutschland
CATEGORIES:Außerhalb der Weinbaugebiete,Wein & Kulinarik,Wein & Musik,Weinfest,Weinprobe
ATTACH;FMTTYPE=image/jpeg:http://blog.evinum.de/wp-content/uploads/2015/05/events_evinum_weinfest.jpg
ORGANIZER;CN="Stadt%20Gladenbach":MAILTO:magistrat@gladenbach.de
END:VEVENT
END:VCALENDAR