BEGIN:VCALENDAR
VERSION:2.0
PRODID:-//#wine_passion - ECPv4.2.2//NONSGML v1.0//EN
CALSCALE:GREGORIAN
METHOD:PUBLISH
X-WR-CALNAME:#wine_passion
X-ORIGINAL-URL:http://blog.evinum.de
X-WR-CALDESC:Events for #wine_passion
BEGIN:VEVENT
DTSTART;VALUE=DATE:20150814
DTEND;VALUE=DATE:20150817
DTSTAMP:20260424T080215
CREATED:20150702
LAST-MODIFIED:20150815
UID:6489-1439510400-1439855999@blog.evinum.de
SUMMARY:Weinfest in Rüdesheim am Rhein 2015
DESCRIPTION:Das Weinfest in Rüdesheim ist Tradition pur. Es bietet seinen Gästen Winzergemütlichkeit\, Rheingauer Gastfreundlichkeit und Weinkultur vom Feinsten. Die Krönung der Rüdesheimer Weinkönigin steht ebenso auf dem Programm\, wie Tanz und Unterhaltung mit Live-Musik. Das Rüdesheimer Weinfest fällt in der Regel auf das 3. Wochenende im August.
URL:http://blog.evinum.de/event/weinfest-in-ruedesheim-am-rhein-2015-4/
LOCATION:Marktplatz\, Rüdesheim am Rhein\, Hessen\, 65385\, Deutschland
GEO:49.9788479;7.9230526
X-APPLE-STRUCTURED-LOCATION;VALUE=URI;X-ADDRESS=Marktplatz Rüdesheim am Rhein Hessen 65385 Deutschland;X-APPLE-RADIUS=500;X-TITLE=Marktplatz:geo:7.9230526,49.9788479
CATEGORIES:Außerhalb der Weinbaugebiete,Wein & Kulinarik,Wein & Musik,Weinausschank,Weinevent,Weinfest
ATTACH;FMTTYPE=image/jpeg:http://blog.evinum.de/wp-content/uploads/2015/03/events_evinum_krone.jpg
ORGANIZER;CN="R%C3%BCdesheim%20Tourist%20AG":MAILTO:touristinfo@ruedesheim.de
END:VEVENT
END:VCALENDAR