BEGIN:VCALENDAR
VERSION:2.0
PRODID:-//#wine_passion - ECPv4.2.2//NONSGML v1.0//EN
CALSCALE:GREGORIAN
METHOD:PUBLISH
X-WR-CALNAME:#wine_passion
X-ORIGINAL-URL:http://blog.evinum.de
X-WR-CALDESC:Events for #wine_passion
BEGIN:VEVENT
DTSTART;VALUE=DATE:20150822
DTEND;VALUE=DATE:20150823
DTSTAMP:20260421T123815
CREATED:20150723
LAST-MODIFIED:20150821
UID:7069-1440201600-1440374399@blog.evinum.de
SUMMARY:Weinfest in Weigenheim
DESCRIPTION:Weinfeste und Hoffeste
URL:http://blog.evinum.de/event/weinfest-in-weigenheim/
LOCATION:Dorfplatz / Innenstadt / Höfe\, Weigenheim\, Bayern\, 97215\, Deutschland
GEO:49.5362231;10.218784
X-APPLE-STRUCTURED-LOCATION;VALUE=URI;X-ADDRESS=Dorfplatz / Innenstadt / Höfe Weigenheim Bayern 97215 Deutschland;X-APPLE-RADIUS=500;X-TITLE=Dorfplatz / Innenstadt / Höfe:geo:10.218784,49.5362231
CATEGORIES:Franken,Weinfest
ATTACH;FMTTYPE=image/jpeg:http://blog.evinum.de/wp-content/uploads/2015/05/events_evinum_partylichter.jpg
ORGANIZER;CN="Frankenwein-Frankenland%20GmbH":MAILTO:kontakt@haus-des-frankenweins.de
END:VEVENT
END:VCALENDAR