BEGIN:VCALENDAR
VERSION:2.0
PRODID:-//#wine_passion - ECPv4.2.2//NONSGML v1.0//EN
CALSCALE:GREGORIAN
METHOD:PUBLISH
X-WR-CALNAME:#wine_passion
X-ORIGINAL-URL:http://blog.evinum.de
X-WR-CALDESC:Events for #wine_passion
BEGIN:VEVENT
DTSTART;TZID=Europe/Berlin:20150509T200000
DTEND;TZID=Europe/Berlin:20150510T000000
DTSTAMP:20260426T020600
CREATED:20150323T185956
LAST-MODIFIED:20150501T104932
UID:3078-1431201600-1431216000@blog.evinum.de
SUMMARY:Weinfest rund um den Dachsteiger
DESCRIPTION:Besuchen Sie am Weinfest-Sonntag unseren Handwerker-\, Direktvermarkter- und Kleinkunstmarkt rund um die Heuholzer Kelter. Zahlreiche Aussteller aus der Region präsentieren ihre Spezialitäten.
URL:http://blog.evinum.de/event/weinfest-rund-um-den-dachsteiger/
LOCATION:Dachsteigerstraße 2\, Pfedelbach-Heuholz\, Baden-Württemberg\, 74629\, Deutschland
GEO:49.1541;9.54479
X-APPLE-STRUCTURED-LOCATION;VALUE=URI;X-ADDRESS=Dachsteigerstraße 2 Pfedelbach-Heuholz Baden-Württemberg 74629 Deutschland;X-APPLE-RADIUS=500;X-TITLE=Dachsteigerstraße 2:geo:9.54479,49.1541
CATEGORIES:Wein & Kulinarik,Wein & Kunst,Württemberg
ATTACH;FMTTYPE=image/jpeg:http://blog.evinum.de/wp-content/uploads/2015/02/events_evinum_korken_spanien.jpg
ORGANIZER;CN="Weinwerbung%20W%C3%BCrttemberg":MAILTO:info@wwg.de
END:VEVENT
END:VCALENDAR