BEGIN:VCALENDAR
VERSION:2.0
PRODID:-//#wine_passion - ECPv4.2.2//NONSGML v1.0//EN
CALSCALE:GREGORIAN
METHOD:PUBLISH
X-WR-CALNAME:#wine_passion
X-ORIGINAL-URL:http://blog.evinum.de
X-WR-CALDESC:Events for #wine_passion
BEGIN:VEVENT
DTSTART;VALUE=DATE:20150821
DTEND;VALUE=DATE:20150825
DTSTAMP:20260423T121649
CREATED:20150723
LAST-MODIFIED:20150822
UID:7002-1440115200-1440547199@blog.evinum.de
SUMMARY:Weinkerwe in Neustadt-Diedesfeld
DESCRIPTION:Weinfeste und Hoffeste - Das gemütliche Weinfest am Mittelpunkt der Deutschen Weinstraße\n\nDie Veranstaltungen findet auf dem Alten Sportplatz\, Kreuzstraße und Von-Dalheim-Straße statt. Übliche Öffnungszeiten der Ausschankstellen.\n\nKerweeröffnung: Freitag\, 18 Uhr. Beginn Kerweausgraben mit Umzug zum Remigiusbrunnen\, anschließend Freiwein aus dem historischen Rathausbrunnen.\n\nSonntag ab 11 Uhr Oldtimerausstellung auf der Kerwemeile\, um 14 Uhr am Rathaus Kerwerätsel für Kinder.\n\nBeginn der Preisverleihung im Rathaus um 16 Uhr durch die Diedesfelder Weinprinzessin Stephanie und der Traubensaftprinzessin Lara.\n\n16.30 - 17.30 Uhr Autogrammstunde der Wein-/Traubensafthoheiten in der Ortsverwaltung.
URL:http://blog.evinum.de/event/weinkerwe-in-neustadt-diedesfeld/
LOCATION:Dorfplatz / Innenstadt / Höfe\, Neustadt-Diedesfeld\, Rheinland-Pfalz\, 67434\, Deutschland
GEO:49.3370281;8.0850242
X-APPLE-STRUCTURED-LOCATION;VALUE=URI;X-ADDRESS=Dorfplatz / Innenstadt / Höfe Neustadt-Diedesfeld Rheinland-Pfalz 67434 Deutschland;X-APPLE-RADIUS=500;X-TITLE=Dorfplatz / Innenstadt / Höfe:geo:8.0850242,49.3370281
CATEGORIES:Pfalz,Wein & Kulinarik,Wein & Musik,Weinausschank
ATTACH;FMTTYPE=image/jpeg:http://blog.evinum.de/wp-content/uploads/2015/05/events_evinum_paar_kuessen.jpg
ORGANIZER;CN="Tourist%20Information%20Neustadt":MAILTO:touristinfo@neustadt.pfalz.com
END:VEVENT
END:VCALENDAR