BEGIN:VCALENDAR
VERSION:2.0
PRODID:-//#wine_passion - ECPv4.2.2//NONSGML v1.0//EN
CALSCALE:GREGORIAN
METHOD:PUBLISH
X-WR-CALNAME:#wine_passion
X-ORIGINAL-URL:http://blog.evinum.de
X-WR-CALDESC:Events for #wine_passion
BEGIN:VEVENT
DTSTART;VALUE=DATE:20150829
DTEND;VALUE=DATE:20150831
DTSTAMP:20260421T094905
CREATED:20150723
LAST-MODIFIED:20150826
UID:6877-1440806400-1441065599@blog.evinum.de
SUMMARY:Weinkirmes in Burgen
DESCRIPTION:Weinfeste und Hoffeste
URL:http://blog.evinum.de/event/weinkirmes-in-burgen/
LOCATION:Dorfplatz / Innenstadt / Höfe\, Burgen\, Rheinland-Pfalz\, 56332\, Deutschland
GEO:50.2637251;7.4640035
X-APPLE-STRUCTURED-LOCATION;VALUE=URI;X-ADDRESS=Dorfplatz / Innenstadt / Höfe Burgen Rheinland-Pfalz 56332 Deutschland;X-APPLE-RADIUS=500;X-TITLE=Dorfplatz / Innenstadt / Höfe:geo:7.4640035,50.2637251
CATEGORIES:Mosel,Wein & Kulinarik,Wein & Musik,Weinausschank,Weinfest
ATTACH;FMTTYPE=image/jpeg:http://blog.evinum.de/wp-content/uploads/2015/05/events_evinum_weinfest.jpg
ORGANIZER;CN="Mosel-G%C3%A4ste-Zentrum":MAILTO:info@bernkastel.de
END:VEVENT
END:VCALENDAR