BEGIN:VCALENDAR
VERSION:2.0
PRODID:-//#wine_passion - ECPv4.2.2//NONSGML v1.0//EN
CALSCALE:GREGORIAN
METHOD:PUBLISH
X-WR-CALNAME:#wine_passion
X-ORIGINAL-URL:http://blog.evinum.de
X-WR-CALDESC:Events for #wine_passion
BEGIN:VEVENT
DTSTART;VALUE=DATE:20150821
DTEND;VALUE=DATE:20150824
DTSTAMP:20260423T103631
CREATED:20150723
LAST-MODIFIED:20150821
UID:7004-1440115200-1440460799@blog.evinum.de
SUMMARY:Weinkirmes St. Rochus
DESCRIPTION:Mit deutsch-luxemburgischem Weinhappening
URL:http://blog.evinum.de/event/weinkirmes-st-rochus/
LOCATION:Dorfplatz / Innenstadt / Höfe\, Nittel\, Rheinland-Pfalz\, 54453\, Deutschland
GEO:49.6490253;6.4622688
X-APPLE-STRUCTURED-LOCATION;VALUE=URI;X-ADDRESS=Dorfplatz / Innenstadt / Höfe Nittel Rheinland-Pfalz 54453 Deutschland;X-APPLE-RADIUS=500;X-TITLE=Dorfplatz / Innenstadt / Höfe:geo:6.4622688,49.6490253
CATEGORIES:Mosel,Wein & Kulinarik,Wein & Kultur,Wein & Musik,Weinfest
ATTACH;FMTTYPE=image/jpeg:http://blog.evinum.de/wp-content/uploads/2015/05/events_evinum_weinfest.jpg
ORGANIZER;CN="Mosellandtouristik%20GmbH":MAILTO:info@mosellandtouristik.de
END:VEVENT
END:VCALENDAR