BEGIN:VCALENDAR
VERSION:2.0
PRODID:-//#wine_passion - ECPv4.2.2//NONSGML v1.0//EN
CALSCALE:GREGORIAN
METHOD:PUBLISH
X-WR-CALNAME:#wine_passion
X-ORIGINAL-URL:http://blog.evinum.de
X-WR-CALDESC:Events for #wine_passion
BEGIN:VEVENT
DTSTART;VALUE=DATE:20150808
DTEND;VALUE=DATE:20150810
DTSTAMP:20260419T141840
CREATED:20150702
LAST-MODIFIED:20150805
UID:6452-1438992000-1439251199@blog.evinum.de
SUMMARY:Weinkirmes Wintrich
DESCRIPTION:Weinfeste und Hoffeste
URL:http://blog.evinum.de/event/weinkirmes-wintrich/
LOCATION:Festplatz\, Wintrich\, Rheinland-Pfalz\, 54487 \, Deutschland
GEO:49.8660137;6.9689275
X-APPLE-STRUCTURED-LOCATION;VALUE=URI;X-ADDRESS=Festplatz Wintrich Rheinland-Pfalz 54487  Deutschland;X-APPLE-RADIUS=500;X-TITLE=Festplatz:geo:6.9689275,49.8660137
CATEGORIES:Mosel,Wein & Kulinarik,Wein & Musik,Weinausschank
ATTACH;FMTTYPE=image/jpeg:http://blog.evinum.de/wp-content/uploads/2015/07/events_evinum_weinfest5.jpg
ORGANIZER;CN="Mosel-G%C3%A4ste-Zentrum":MAILTO:info@bernkastel.de
END:VEVENT
END:VCALENDAR