BEGIN:VCALENDAR
VERSION:2.0
PRODID:-//#wine_passion - ECPv4.2.2//NONSGML v1.0//EN
CALSCALE:GREGORIAN
METHOD:PUBLISH
X-WR-CALNAME:#wine_passion
X-ORIGINAL-URL:http://blog.evinum.de
X-WR-CALDESC:Events for #wine_passion
BEGIN:VEVENT
DTSTART;TZID=Europe/Berlin:20151128T130000
DTEND;TZID=Europe/Berlin:20151129T180000
DTSTAMP:20260421T095906
CREATED:20151016T142931
LAST-MODIFIED:20151022T100722
UID:8225-1448715600-1448820000@blog.evinum.de
SUMMARY:Weinkost im Gewölbekeller in Miltenberg 
DESCRIPTION:Probieren sie das Sortiment im Weingut Otto Knapp bei einer offenen Tischverkostung.
URL:http://blog.evinum.de/event/weinkost-im-gewoelbekeller-in-miltenberg/
LOCATION:Bürgstadter Str. 21\, Miltenberg\, Bayern\, 63897\, Deutschland
GEO:49.70479;9.26243
X-APPLE-STRUCTURED-LOCATION;VALUE=URI;X-ADDRESS=Bürgstadter Str. 21 Miltenberg Bayern 63897 Deutschland;X-APPLE-RADIUS=500;X-TITLE=Bürgstadter Str. 21:geo:9.26243,49.70479
CATEGORIES:Franken,Weinprobe,Weinverkostung,Winzerkeller
ATTACH;FMTTYPE=image/jpeg:http://blog.evinum.de/wp-content/uploads/2015/02/events_evinum_weinkeller_fass.jpg
ORGANIZER;CN="Mainland%20Miltenberg-Churfranken%20e.V.":MAILTO:info@churfranken.de
END:VEVENT
END:VCALENDAR