BEGIN:VCALENDAR
VERSION:2.0
PRODID:-//#wine_passion - ECPv4.2.2//NONSGML v1.0//EN
CALSCALE:GREGORIAN
METHOD:PUBLISH
X-WR-CALNAME:#wine_passion
X-ORIGINAL-URL:http://blog.evinum.de
X-WR-CALDESC:Events for #wine_passion
BEGIN:VEVENT
DTSTART;VALUE=DATE:20150924
DTEND;VALUE=DATE:20150928
DTSTAMP:20260423T090315
CREATED:20150723
LAST-MODIFIED:20150922
UID:6870-1443052800-1443484799@blog.evinum.de
SUMMARY:Weinmarkt in Bretten
DESCRIPTION:Winzerlauben und Weinprobierstände auf dem historischen Marktplatz und in der angrenzenden Fußgängerzone laden zur Verkostung der Weine aus Kraichgau\, Stromberg\, Heuchelberg und Zabergäu ein.
URL:http://blog.evinum.de/event/weinmarkt-in-bretten/
LOCATION:Marktplatz und Fußgängerzone\, Bretten\, Baden-Württemberg\, 75015\, Deutschland
CATEGORIES:Baden,Weinevent,Weingüter,Weinmarkt,Weinverkostung
ATTACH;FMTTYPE=image/jpeg:http://blog.evinum.de/wp-content/uploads/2015/08/events_evinum_marktschrim.jpg
ORGANIZER;CN="Tourist-Info%20Bretten":MAILTO:touristinfo@bretten.de
END:VEVENT
END:VCALENDAR