BEGIN:VCALENDAR
VERSION:2.0
PRODID:-//#wine_passion - ECPv4.2.2//NONSGML v1.0//EN
CALSCALE:GREGORIAN
METHOD:PUBLISH
X-WR-CALNAME:#wine_passion
X-ORIGINAL-URL:http://blog.evinum.de
X-WR-CALDESC:Events for #wine_passion
BEGIN:VEVENT
DTSTART;VALUE=DATE:20150417
DTEND;VALUE=DATE:20150417
DTSTAMP:20260421T101728
CREATED:20150226
LAST-MODIFIED:20150415
UID:2409-1429228800-1429315199@blog.evinum.de
SUMMARY:Weinprobe im Weingut Neder
DESCRIPTION:Weinprobe im Weingut Neder
URL:http://blog.evinum.de/event/weinprobe-im-weingut-neder-2/
LOCATION:Urbanusweg 5\, Ramsthal\, Bayern\, 97729\, Deutschland
GEO:50.1398134;10.0655351
X-APPLE-STRUCTURED-LOCATION;VALUE=URI;X-ADDRESS=Urbanusweg 5 Ramsthal Bayern 97729 Deutschland;X-APPLE-RADIUS=500;X-TITLE=Urbanusweg 5:geo:10.0655351,50.1398134
CATEGORIES:Franken,Weingüter,Weinprobe
ATTACH;FMTTYPE=image/jpeg:http://blog.evinum.de/wp-content/uploads/2015/04/events_evinum_weinregal.jpg
ORGANIZER;CN="Frankens%20Saalest%C3%BCck":MAILTO:info@frankens-saalestueck.de
END:VEVENT
END:VCALENDAR