BEGIN:VCALENDAR
VERSION:2.0
PRODID:-//#wine_passion - ECPv4.2.2//NONSGML v1.0//EN
CALSCALE:GREGORIAN
METHOD:PUBLISH
X-WR-CALNAME:#wine_passion
X-ORIGINAL-URL:http://blog.evinum.de
X-WR-CALDESC:Events for #wine_passion
BEGIN:VEVENT
DTSTART;TZID=Europe/Berlin:20160304T190000
DTEND;TZID=Europe/Berlin:20160304T210000
DTSTAMP:20260425T134440
CREATED:20160129T152155
LAST-MODIFIED:20160229T112352
UID:10271-1457118000-1457125200@blog.evinum.de
SUMMARY:Weinprobe in der historischen Straßenbahn
DESCRIPTION:Bei dieser gemütlichen Weinprobe verkosten Sie 6 Weine von ausgesuchten rheinhessischen Weingütern. Für den kleinen Hunger reichen wir rheinhessische Leckereien. Ein stimmungsvoller Ausklang in einer gemütlichen Weinstube in der Mainzer Altstadt rundet diesen Ausflug ab. Leider bereits ausgebucht.
URL:http://blog.evinum.de/event/weinprobe-in-der-historischen-strassenbahn-3/
LOCATION:Mainzer Neustadt nach Mainz-Finthen bis zum Mainzer Vorort Hechtsheim und zurück\, Mainz\, Rheinland-Pfalz\, 55131\, Deutschland
GEO:49.9889241;8.2716688
X-APPLE-STRUCTURED-LOCATION;VALUE=URI;X-ADDRESS=Mainzer Neustadt nach Mainz-Finthen bis zum Mainzer Vorort Hechtsheim und zurück Mainz Rheinland-Pfalz 55131 Deutschland;X-APPLE-RADIUS=500;X-TITLE=Mainzer Neustadt nach Mainz-Finthen bis zum Mainzer Vorort Hechtsheim und zurück:geo:8.2716688,49.9889241
CATEGORIES:Rheinhessen,Wein & Kulinarik,Wein & Kultur,Weinevent,Weinprobe
ATTACH;FMTTYPE=image/jpeg:http://blog.evinum.de/wp-content/uploads/2015/02/events_evinum_strassenbahn.jpg
ORGANIZER;CN="Herrgottsgarten%2C%20Berges-Kitzer%20%26%20Schneider%20GbR":MAILTO:kontakt@herrgottsgarten.de
END:VEVENT
END:VCALENDAR