BEGIN:VCALENDAR
VERSION:2.0
PRODID:-//#wine_passion - ECPv4.2.2//NONSGML v1.0//EN
CALSCALE:GREGORIAN
METHOD:PUBLISH
X-WR-CALNAME:#wine_passion
X-ORIGINAL-URL:http://blog.evinum.de
X-WR-CALDESC:Events for #wine_passion
BEGIN:VEVENT
DTSTART;VALUE=DATE:20150530
DTEND;VALUE=DATE:20150530
DTSTAMP:20260425T155400
CREATED:20150323
LAST-MODIFIED:20150520
UID:3372-1432944000-1433030399@blog.evinum.de
SUMMARY:Weinprobiertage im Weingut Schömehl
DESCRIPTION:Wir bieten Ihnen ein attraktives\, unterhaltsames Programm mit der Besichtigung unseres Weingutes\, einer Wanderung durch die Weinberge und natürlich einer interessanten Weinprobe. Dabei darf auch die herzhafte Winzervesper nicht fehlen.
URL:http://blog.evinum.de/event/weinprobiertage-im-weingut-schoemehl/
LOCATION:Binger Straße 2\, Dorsheim\, Rheinland-Pfalz\, 55452\, Deutschland
GEO:49.92587;7.87283
X-APPLE-STRUCTURED-LOCATION;VALUE=URI;X-ADDRESS=Binger Straße 2 Dorsheim Rheinland-Pfalz 55452 Deutschland;X-APPLE-RADIUS=500;X-TITLE=Binger Straße 2:geo:7.87283,49.92587
CATEGORIES:Nahe,offene Weingüter,Wein & Kulinarik,Wein & Musik,Weinevent,Weinfest,Weingüter,Weinprobe,Weinverkostung,Winzerkeller,Winzerverein
ATTACH;FMTTYPE=image/jpeg:http://blog.evinum.de/wp-content/uploads/2015/04/events_evinum_paar_weinberge.jpg
ORGANIZER;CN="Weinland%20Nahe%20e.V.":MAILTO:info@weinland-nahe.de
END:VEVENT
END:VCALENDAR