BEGIN:VCALENDAR
VERSION:2.0
PRODID:-//#wine_passion - ECPv4.2.2//NONSGML v1.0//EN
CALSCALE:GREGORIAN
METHOD:PUBLISH
X-WR-CALNAME:#wine_passion
X-ORIGINAL-URL:http://blog.evinum.de
X-WR-CALDESC:Events for #wine_passion
BEGIN:VEVENT
DTSTART;TZID=Europe/Berlin:20160310T183000
DTEND;TZID=Europe/Berlin:20160310T183000
DTSTAMP:20260421T082506
CREATED:20160121T094134
LAST-MODIFIED:20160229T173843
UID:9531-1457634600-1457634600@blog.evinum.de
SUMMARY:Weinseminar Basis in Fellbach
DESCRIPTION:Vom Weinberg zum Wein und über das Riechen und Schmecken\, wird unkompliziert und mit guter Laune zum Thema Wein berichtet. Eine spannende Kellerführung und praktisches Probieren dürfen selbstverständlich nicht fehlen. Inklusive Seminarunterlagen\, Urkunde\, Snacks\, alkoholfreien Getränken und Weinprobe.
URL:http://blog.evinum.de/event/weinseminar-basis-in-fellbach-2/
LOCATION:Kappelbergstraße 48\, Fellbach\, Baden-Württemberg\, 70734\, Deutschland
GEO:48.8022926;9.2798576
X-APPLE-STRUCTURED-LOCATION;VALUE=URI;X-ADDRESS=Kappelbergstraße 48 Fellbach Baden-Württemberg 70734 Deutschland;X-APPLE-RADIUS=500;X-TITLE=Kappelbergstraße 48:geo:9.2798576,48.8022926
CATEGORIES:Weinprobe,Weinseminar,Weinseminare,Weinsensorik-Kurs,Weinverkostung,Württemberg
ATTACH;FMTTYPE=image/jpeg:http://blog.evinum.de/wp-content/uploads/2015/03/events_evinum_seminar.jpg
ORGANIZER;CN="Fellbacher%20Weing%C3%A4rtner":MAILTO:info@fellbacher-weine.de
END:VEVENT
END:VCALENDAR