BEGIN:VCALENDAR
VERSION:2.0
PRODID:-//#wine_passion - ECPv4.2.2//NONSGML v1.0//EN
CALSCALE:GREGORIAN
METHOD:PUBLISH
X-WR-CALNAME:#wine_passion
X-ORIGINAL-URL:http://blog.evinum.de
X-WR-CALDESC:Events for #wine_passion
BEGIN:VEVENT
DTSTART;TZID=Europe/Berlin:20151204T190000
DTEND;TZID=Europe/Berlin:20151205T223000
DTSTAMP:20260420T142451
CREATED:20151109T213421
LAST-MODIFIED:20151111T111341
UID:8538-1449255600-1449354600@blog.evinum.de
SUMMARY:Weinseminar vom Weingut Emmerich
DESCRIPTION:Eine spannende und erlebnisreiche Bilderreise zum Kulturgut Wein Themenbezogener Power Point Vortrag mit moderierter Weinprobe von Gotthard Emmerich\, Techniker für Weinbau und Önologie . Viergängige Leckereien aus der Küche und 8 Weine  im Hotel Leyscher Hof mit Weinprobe .
URL:http://blog.evinum.de/event/weinseminar-vom-weingut-emmerich/
LOCATION:August-Bungert-Allee 9\, Leutesdorf\, Rheinland-Pfalz\, 56599\, Deutschland
GEO:50.44794;7.38974
X-APPLE-STRUCTURED-LOCATION;VALUE=URI;X-ADDRESS=August-Bungert-Allee 9 Leutesdorf Rheinland-Pfalz 56599 Deutschland;X-APPLE-RADIUS=500;X-TITLE=August-Bungert-Allee 9:geo:7.38974,50.44794
CATEGORIES:Mittelrhein,Weinprobe,Weinseminar,Weinseminare
ATTACH;FMTTYPE=image/jpeg:http://blog.evinum.de/wp-content/uploads/2015/04/events_evinum_seminare.jpg
ORGANIZER;CN="Verkehrs-%20und%20Versch%C3%B6nerungsverein%20Leutesdorf":MAILTO:verkehrsverein@leutesdorf-rhein.de
END:VEVENT
END:VCALENDAR