BEGIN:VCALENDAR
VERSION:2.0
PRODID:-//#wine_passion - ECPv4.2.2//NONSGML v1.0//EN
CALSCALE:GREGORIAN
METHOD:PUBLISH
X-WR-CALNAME:#wine_passion
X-ORIGINAL-URL:http://blog.evinum.de
X-WR-CALDESC:Events for #wine_passion
BEGIN:VEVENT
DTSTART;TZID=Europe/Berlin:20150509T170000
DTEND;TZID=Europe/Berlin:20150509T230000
DTSTAMP:20260426T040705
CREATED:20150323T190004
LAST-MODIFIED:20150505T160923
UID:3101-1431190800-1431212400@blog.evinum.de
SUMMARY:Weinszenario Lachen-Speyerdorf
DESCRIPTION:Die Weingüter Andres\, Baßler\, Kreiselmaier\, Rietburg Winzer\, Schäfer und Stöckel-Hoos präsentieren im Garten der Familie Gros in der Karl-Ohler Strasse 19 gemeinsam eine Auswahl ihrer regional erzeugten Weine.
URL:http://blog.evinum.de/event/weinszenario-lachen-speyerdorf/
LOCATION:Neustadt-Lachen-Speyerdorf\, Rheinland-Pfalz\, 67430\, Deutschland
CATEGORIES:Jahrgangspräsentation,Pfalz,Weingüter,Weinpräsentation
ATTACH;FMTTYPE=image/jpeg:http://blog.evinum.de/wp-content/uploads/2015/05/events_evinum_familie_feiern.jpg
ORGANIZER;CN="Tourist%20Information%20Neustadt":MAILTO:touristinfo@neustadt.pfalz.com
END:VEVENT
END:VCALENDAR