BEGIN:VCALENDAR
VERSION:2.0
PRODID:-//#wine_passion - ECPv4.2.2//NONSGML v1.0//EN
CALSCALE:GREGORIAN
METHOD:PUBLISH
X-WR-CALNAME:#wine_passion
X-ORIGINAL-URL:http://blog.evinum.de
X-WR-CALDESC:Events for #wine_passion
BEGIN:VEVENT
DTSTART;TZID=Europe/Berlin:20150829T150000
DTEND;TZID=Europe/Berlin:20150829T150000
DTSTAMP:20260421T095925
CREATED:20150723T142613
LAST-MODIFIED:20150826T153340
UID:6978-1440860400-1440860400@blog.evinum.de
SUMMARY:Weinwanderung in Laumersheim 
DESCRIPTION:ab Weingut Zelt\, kerstin.pontasch@kwb-pfalz.de
URL:http://blog.evinum.de/event/weinwanderung-8/
LOCATION:auf Anfrage\, Laumersheim \, Rheinland-Pfalz\, 67229\, Deutschland
CATEGORIES:Pfalz,Wein & Kulinarik,Wein & Musik,Weinausschank,Weinwanderung
ATTACH;FMTTYPE=image/jpeg:http://blog.evinum.de/wp-content/uploads/2015/02/events_evinum_weinberge_wanderung2.jpg
ORGANIZER;CN="Kultur-%20und%20Weinbotschafter%20Pfalz%20e.V.":MAILTO:info@kultur-und-weinbotschafter.de
END:VEVENT
END:VCALENDAR