BEGIN:VCALENDAR
VERSION:2.0
PRODID:-//#wine_passion - ECPv4.2.2//NONSGML v1.0//EN
CALSCALE:GREGORIAN
METHOD:PUBLISH
X-WR-CALNAME:#wine_passion
X-ORIGINAL-URL:http://blog.evinum.de
X-WR-CALDESC:Events for #wine_passion
BEGIN:VEVENT
DTSTART;TZID=Europe/Berlin:20150711T133000
DTEND;TZID=Europe/Berlin:20150711T133000
DTSTAMP:20260421T102034
CREATED:20150621T135637
LAST-MODIFIED:20150701T165354
UID:4861-1436621400-1436621400@blog.evinum.de
SUMMARY:Weinwanderung durch die Bad Dürkheimer Spitzenlagen
DESCRIPTION:Weinwanderung
URL:http://blog.evinum.de/event/weinwanderung-durch-die-bad-duerkheimer-spitzenlagen-3/
LOCATION:auf Anfrage\, Bad Dürkheim\, Rheinland-Pfalz\, 67098\, Deutschland
GEO:49.4590591;8.0944799
X-APPLE-STRUCTURED-LOCATION;VALUE=URI;X-ADDRESS=auf Anfrage Bad Dürkheim Rheinland-Pfalz 67098 Deutschland;X-APPLE-RADIUS=500;X-TITLE=auf Anfrage:geo:8.0944799,49.4590591
CATEGORIES:Pfalz
ATTACH;FMTTYPE=image/jpeg:http://blog.evinum.de/wp-content/uploads/2014/09/760x325_pfalz.jpg
ORGANIZER;CN="Kultur-%20und%20Weinbotschafterin%20Christine%20Freund":MAILTO:christine@erlebe-die-pfalz.de
END:VEVENT
END:VCALENDAR