BEGIN:VCALENDAR
VERSION:2.0
PRODID:-//#wine_passion - ECPv4.2.2//NONSGML v1.0//EN
CALSCALE:GREGORIAN
METHOD:PUBLISH
X-WR-CALNAME:#wine_passion
X-ORIGINAL-URL:http://blog.evinum.de
X-WR-CALDESC:Events for #wine_passion
BEGIN:VEVENT
DTSTART;VALUE=DATE:20150808
DTEND;VALUE=DATE:20150809
DTSTAMP:20260423T090256
CREATED:20150702
LAST-MODIFIED:20150731
UID:6454-1438992000-1439164799@blog.evinum.de
SUMMARY:Weinwanderwochenende Kirschroth
DESCRIPTION:Weinberg\, Gut und Keller erleben
URL:http://blog.evinum.de/event/weinwanderwochenende-kirschroth/
LOCATION:auf Anfrage\, Kirschroth\, Rheinland-Pfalz\, 55566\, Deutschland
GEO:49.7972954;7.6490337
X-APPLE-STRUCTURED-LOCATION;VALUE=URI;X-ADDRESS=auf Anfrage Kirschroth Rheinland-Pfalz 55566 Deutschland;X-APPLE-RADIUS=500;X-TITLE=auf Anfrage:geo:7.6490337,49.7972954
CATEGORIES:Nahe,Weinbergsführung,Weinevent,Weingüter,Weinreise,Weinverkostung,Weinwanderung
ATTACH;FMTTYPE=image/jpeg:http://blog.evinum.de/wp-content/uploads/2015/07/events_evinum_trauben_juli6.jpg
ORGANIZER;CN="Kur-%20und%20Touristinformation%20Bad%20Sobernheim":MAILTO:touristinfo@bad-sobernheim.de
END:VEVENT
END:VCALENDAR