BEGIN:VCALENDAR
VERSION:2.0
PRODID:-//#wine_passion - ECPv4.2.2//NONSGML v1.0//EN
CALSCALE:GREGORIAN
METHOD:PUBLISH
X-WR-CALNAME:#wine_passion
X-ORIGINAL-URL:http://blog.evinum.de
X-WR-CALDESC:Events for #wine_passion
BEGIN:VEVENT
DTSTART;VALUE=DATE:20150704
DTEND;VALUE=DATE:20150705
DTSTAMP:20260422T132103
CREATED:20150428
LAST-MODIFIED:20150630
UID:4294-1435968000-1436140799@blog.evinum.de
SUMMARY:Winzerfest in Meersburg
DESCRIPTION:Jedes Jahr am ersten oder zweiten  Wochenende im Juli verwandelt sich die Meersburger Unterstadt in eine Festmeile. Die Meersburger Vereine veranstalten an diesem Wochenende das Winzerfest\, das ganz im Zeichen des Weines steht. Der Traum eines jeden Weinfreundes erfüllt sich am Weinbrunnen\, dem Symbol des Festes\, aus dem aus Anlass des Winzerfestes statt Wasser Wein fließt.
URL:http://blog.evinum.de/event/winzerfest-4/
LOCATION:in der Unterstadt\, Meersburg\, Baden-Württemberg\, 88709\, Deutschland
GEO:47.693135;9.2706133
X-APPLE-STRUCTURED-LOCATION;VALUE=URI;X-ADDRESS=in der Unterstadt Meersburg Baden-Württemberg 88709 Deutschland;X-APPLE-RADIUS=500;X-TITLE=in der Unterstadt:geo:9.2706133,47.693135
CATEGORIES:Baden,Wein & Geschichte,Wein & Kulinarik,Wein & Musik,Weinfest,Winzerfest
ATTACH;FMTTYPE=image/jpeg:http://blog.evinum.de/wp-content/uploads/2015/05/events_evinum_paar_kuessen.jpg
ORGANIZER;CN="Badischer%20Wein%20GmbH":MAILTO:info@badischerwein.de
END:VEVENT
END:VCALENDAR